BEGIN:VCALENDAR
VERSION:2.0
PRODID:-//Christa Prameshuber - ECPv6.15.16//NONSGML v1.0//EN
CALSCALE:GREGORIAN
METHOD:PUBLISH
X-ORIGINAL-URL:https://christaprameshuber.ch
X-WR-CALDESC:Veranstaltungen für Christa Prameshuber
REFRESH-INTERVAL;VALUE=DURATION:PT1H
X-Robots-Tag:noindex
X-PUBLISHED-TTL:PT1H
BEGIN:VTIMEZONE
TZID:Europe/Zurich
BEGIN:DAYLIGHT
TZOFFSETFROM:+0100
TZOFFSETTO:+0200
TZNAME:CEST
DTSTART:20230326T010000
END:DAYLIGHT
BEGIN:STANDARD
TZOFFSETFROM:+0200
TZOFFSETTO:+0100
TZNAME:CET
DTSTART:20231029T010000
END:STANDARD
BEGIN:DAYLIGHT
TZOFFSETFROM:+0100
TZOFFSETTO:+0200
TZNAME:CEST
DTSTART:20240331T010000
END:DAYLIGHT
BEGIN:STANDARD
TZOFFSETFROM:+0200
TZOFFSETTO:+0100
TZNAME:CET
DTSTART:20241027T010000
END:STANDARD
BEGIN:DAYLIGHT
TZOFFSETFROM:+0100
TZOFFSETTO:+0200
TZNAME:CEST
DTSTART:20250330T010000
END:DAYLIGHT
BEGIN:STANDARD
TZOFFSETFROM:+0200
TZOFFSETTO:+0100
TZNAME:CET
DTSTART:20251026T010000
END:STANDARD
END:VTIMEZONE
BEGIN:VEVENT
DTSTART;TZID=Europe/Zurich:20241105T190000
DTEND;TZID=Europe/Zurich:20241105T213000
DTSTAMP:20260423T214001
CREATED:20240725T204733Z
LAST-MODIFIED:20240725T205447Z
UID:10000039-1730833200-1730842200@christaprameshuber.ch
SUMMARY:"Fragen hätte ich noch" Geschichten von unseren Großeltern\, Lesung mit Verena Dolovai und Wolfram Schneider-Lastin im Museum "Kunst der Verlorenen Generation"\, Salzburg
DESCRIPTION:
URL:https://christaprameshuber.ch/event/fragen-haette-ich-noch-geschichten-von-unseren-grosseltern/
ATTACH;FMTTYPE=image/jpeg:https://christaprameshuber.ch/wp-content/uploads/sites/2/2024/07/FB_Fragen-haett-ich-noch_1080x1080px_SBG.jpg
END:VEVENT
BEGIN:VEVENT
DTSTART;TZID=Europe/Zurich:20241106T190000
DTEND;TZID=Europe/Zurich:20241106T190000
DTSTAMP:20260423T214001
CREATED:20240610T204049Z
LAST-MODIFIED:20240610T205401Z
UID:10000037-1730919600-1730919600@christaprameshuber.ch
SUMMARY:"Fragen hätte ich noch" Geschichten von unseren Großeltern - Lesung gemeinsam mit Verena Dolovai und Wolfram Schneider-Lastin\, Café Traxlmayr\, 4020 Linz\, 19 Uhr
DESCRIPTION:
URL:https://christaprameshuber.ch/event/fragen-haette-ich-noch-geschichten-von-unseren-grosseltern-lesung-mit-verena-dolovai-und-wolfram-schneider-lastin-cafe-traxlmayr-linz/
ATTACH;FMTTYPE=image/jpeg:https://christaprameshuber.ch/wp-content/uploads/sites/2/2024/06/IMG_7900.jpeg
END:VEVENT
BEGIN:VEVENT
DTSTART;TZID=Europe/Zurich:20241113T190000
DTEND;TZID=Europe/Zurich:20241113T190000
DTSTAMP:20260423T214001
CREATED:20240610T204806Z
LAST-MODIFIED:20240610T205435Z
UID:10000038-1731524400-1731524400@christaprameshuber.ch
SUMMARY:"Fragen hätte ich noch"\, Geschichten von unseren Großeltern\, Lesung gemeinsam mit Verena Dolovai und Wolfram Schneider-Lastin\, Café Korb\, 1010 Wien\, 19 Uhr
DESCRIPTION:
URL:https://christaprameshuber.ch/event/fragen-haette-ich-noch-geschichten-von-unseren-grosseltern-cafe-korb-1010-wien-19-uhr/
ATTACH;FMTTYPE=image/jpeg:https://christaprameshuber.ch/wp-content/uploads/sites/2/2024/06/IMG_7901.jpeg
END:VEVENT
END:VCALENDAR