BEGIN:VCALENDAR
VERSION:2.0
PRODID:-//Christa Prameshuber - ECPv6.15.16//NONSGML v1.0//EN
CALSCALE:GREGORIAN
METHOD:PUBLISH
X-ORIGINAL-URL:https://christaprameshuber.ch
X-WR-CALDESC:Veranstaltungen für Christa Prameshuber
REFRESH-INTERVAL;VALUE=DURATION:PT1H
X-Robots-Tag:noindex
X-PUBLISHED-TTL:PT1H
BEGIN:VTIMEZONE
TZID:Europe/Zurich
BEGIN:DAYLIGHT
TZOFFSETFROM:+0100
TZOFFSETTO:+0200
TZNAME:CEST
DTSTART:20240331T010000
END:DAYLIGHT
BEGIN:STANDARD
TZOFFSETFROM:+0200
TZOFFSETTO:+0100
TZNAME:CET
DTSTART:20241027T010000
END:STANDARD
BEGIN:DAYLIGHT
TZOFFSETFROM:+0100
TZOFFSETTO:+0200
TZNAME:CEST
DTSTART:20250330T010000
END:DAYLIGHT
BEGIN:STANDARD
TZOFFSETFROM:+0200
TZOFFSETTO:+0100
TZNAME:CET
DTSTART:20251026T010000
END:STANDARD
BEGIN:DAYLIGHT
TZOFFSETFROM:+0100
TZOFFSETTO:+0200
TZNAME:CEST
DTSTART:20260329T010000
END:DAYLIGHT
BEGIN:STANDARD
TZOFFSETFROM:+0200
TZOFFSETTO:+0100
TZNAME:CET
DTSTART:20261025T010000
END:STANDARD
END:VTIMEZONE
BEGIN:VEVENT
DTSTART;TZID=Europe/Zurich:20250213T190000
DTEND;TZID=Europe/Zurich:20250213T200000
DTSTAMP:20260423T181112
CREATED:20241214T124153Z
LAST-MODIFIED:20241214T125047Z
UID:10000046-1739473200-1739476800@christaprameshuber.ch
SUMMARY:"Stille Rebellinnen" - persönliche Geschichten aus dem Turmzimmer\, im Domcenter Linz
DESCRIPTION:
URL:https://christaprameshuber.ch/event/stille-rebellinnen-persoenliche-geschichten-aus-dem-turmzimmer/
ATTACH;FMTTYPE=image/jpeg:https://christaprameshuber.ch/wp-content/uploads/sites/2/2024/12/Screenshot-2024-12-14-at-13.40.12.jpeg
END:VEVENT
END:VCALENDAR