BEGIN:VCALENDAR
VERSION:2.0
PRODID:-//Christa Prameshuber - ECPv6.15.16//NONSGML v1.0//EN
CALSCALE:GREGORIAN
METHOD:PUBLISH
X-ORIGINAL-URL:https://christaprameshuber.ch
X-WR-CALDESC:Veranstaltungen für Christa Prameshuber
REFRESH-INTERVAL;VALUE=DURATION:PT1H
X-Robots-Tag:noindex
X-PUBLISHED-TTL:PT1H
BEGIN:VTIMEZONE
TZID:Europe/Zurich
BEGIN:DAYLIGHT
TZOFFSETFROM:+0100
TZOFFSETTO:+0200
TZNAME:CEST
DTSTART:20240331T010000
END:DAYLIGHT
BEGIN:STANDARD
TZOFFSETFROM:+0200
TZOFFSETTO:+0100
TZNAME:CET
DTSTART:20241027T010000
END:STANDARD
BEGIN:DAYLIGHT
TZOFFSETFROM:+0100
TZOFFSETTO:+0200
TZNAME:CEST
DTSTART:20250330T010000
END:DAYLIGHT
BEGIN:STANDARD
TZOFFSETFROM:+0200
TZOFFSETTO:+0100
TZNAME:CET
DTSTART:20251026T010000
END:STANDARD
BEGIN:DAYLIGHT
TZOFFSETFROM:+0100
TZOFFSETTO:+0200
TZNAME:CEST
DTSTART:20260329T010000
END:DAYLIGHT
BEGIN:STANDARD
TZOFFSETFROM:+0200
TZOFFSETTO:+0100
TZNAME:CET
DTSTART:20261025T010000
END:STANDARD
END:VTIMEZONE
BEGIN:VEVENT
DTSTART;TZID=Europe/Zurich:20250212T183000
DTEND;TZID=Europe/Zurich:20250212T200000
DTSTAMP:20260423T181039
CREATED:20241217T210523Z
LAST-MODIFIED:20241217T210850Z
UID:10000047-1739385000-1739390400@christaprameshuber.ch
SUMMARY:Fragen hätte ich noch - Geschichten von unseren Großeltern. Lesung mit Wolfram Schneider-Lastin und Gerrit Schneider-Lastin im Kulturforum "Besser Leben" in Linz
DESCRIPTION:
URL:https://christaprameshuber.ch/event/fragen-haette-ich-noch-geschichten-von-unseren-grosseltern-lesung-mit-wolfram-schneider-lastin-und-gerrit-schneider-lastin-im-kulturforum-besser-leben-in-linz/
ATTACH;FMTTYPE=image/jpeg:https://christaprameshuber.ch/wp-content/uploads/sites/2/2024/12/Lesung_Fragen-haett-ich-noch_fb_1080x1080px_BesserLeben.jpg
END:VEVENT
END:VCALENDAR